BEGIN:VCALENDAR
VERSION:2.0
METHOD:PUBLISH
PRODID:-//Accessible Web Design//My Calendar//http://www.joedolson.com//v//EN';
BEGIN:VEVENT
UID:86-7
LOCATION:Polo Crosse Area
SUMMARY:Hamvention 2024
DTSTAMP:20240204T070000
ORGANIZER;CN=BARG-vk3ncc:MAILTO:colin_c_consiglio@yahoo.com.au
DTSTART:20240204T070000
DTEND:20240204T150000
CATEGORIES:General
URL;VALUE=URI:https://barg.myitchaplabs.com.au/mc-events/hamvention-2024/?mc_id=86
DESCRIPTION:
END:VEVENT
END:VCALENDAR