BEGIN:VCALENDAR
VERSION:2.0
METHOD:PUBLISH
PRODID:-//Accessible Web Design//My Calendar//http://www.joedolson.com//v//EN';
BEGIN:VEVENT
UID:82-4
LOCATION:
SUMMARY:General Meeting
DTSTAMP:20231125T110000
ORGANIZER;CN=BARG-vk3ncc:MAILTO:colin_c_consiglio@yahoo.com.au
DTSTART:20231125T110000
DTEND:20231125T120000
CATEGORIES:General
URL;VALUE=URI:https://barg.myitchaplabs.com.au/mc-events/general-meeting/?mc_id=82
DESCRIPTION:
END:VEVENT
END:VCALENDAR