BEGIN:VCALENDAR
VERSION:2.0
METHOD:PUBLISH
PRODID:-//Accessible Web Design//My Calendar//http://www.joedolson.com//v//EN';
BEGIN:VEVENT
UID:193-18
LOCATION:BARG Club Rooms
SUMMARY:BARG General Meeting for 31 august moved one week earlier
DTSTAMP:20240831T110000
ORGANIZER;CN=BARG-vk3ncc:MAILTO:colin_c_consiglio@yahoo.com.au
DTSTART:20240831T110000
DTEND:20240831T140000
CATEGORIES:GeneralMeeting
URL;VALUE=URI:https://barg.myitchaplabs.com.au/mc-events/barg-general-meeting-for-31-august-moved-one-week-earlier/?mc_id=193
DESCRIPTION:This General Meeting of the 31st August is moved 1 week earlier to coincide with the AGM
END:VEVENT
END:VCALENDAR