BEGIN:VCALENDAR
VERSION:2.0
METHOD:PUBLISH
PRODID:-//Accessible Web Design//My Calendar//http://www.joedolson.com//v//EN';
BEGIN:VEVENT
UID:188-15
LOCATION:BARG Club Rooms
SUMMARY:BARG General Meeting
DTSTAMP:20240330T110000
ORGANIZER;CN=BARG-vk3ncc:MAILTO:colin_c_consiglio@yahoo.com.au
DTSTART:20240330T110000
DTEND:20240330T140000
CATEGORIES:GeneralMeeting
URL;VALUE=URI:https://barg.myitchaplabs.com.au/mc-events/barg-general-meeting-2/?mc_id=188
DESCRIPTION:
END:VEVENT
END:VCALENDAR