BEGIN:VCALENDAR
VERSION:2.0
METHOD:PUBLISH
PRODID:-//Accessible Web Design//My Calendar//http://www.joedolson.com//v//EN';
BEGIN:VEVENT
UID:87-3
LOCATION:HF 3.608 MHz
SUMMARY:BARG 80m Net
DTSTAMP:20231228T200000
ORGANIZER;CN=BARG-vk3ncc:MAILTO:colin_c_consiglio@yahoo.com.au
DTSTART:20231228T200000
DTEND:20231228T203000
CATEGORIES:Net
URL;VALUE=URI:https://barg.myitchaplabs.com.au/mc-events/barg-80m-net/?mc_id=87
DESCRIPTION:3.608 MHz  2 rounds, of a quick get together. All welcome to check in.
END:VEVENT
END:VCALENDAR