BEGIN:VCALENDAR
VERSION:2.0
METHOD:PUBLISH
PRODID:-//Accessible Web Design//My Calendar//http://www.joedolson.com//v//EN';
BEGIN:VEVENT
UID:40-2
LOCATION:VK3RBA Repeater listen on 146.750MHz
SUMMARY:2m VHF Net
DTSTAMP:20240130T200000
ORGANIZER;CN=BARG-admin:MAILTO:hosting@myitchap.com.au
DTSTART:20240130T200000
DTEND:20240130T203000
CATEGORIES:Net
URL;VALUE=URI:https://barg.myitchaplabs.com.au/mc-events/2m-vhf-net/?mc_id=40
DESCRIPTION:The 2 Meter VHF Net
END:VEVENT
END:VCALENDAR