BEGIN:VCALENDAR
VERSION:2.0
METHOD:PUBLISH
PRODID:-//Accessible Web Design//My Calendar//http://www.joedolson.com//v//EN';
BEGIN:VEVENT
UID:211-28
LOCATION:
SUMMARY:AGM &amp; General Meeting
DTSTAMP:20240824T110000
ORGANIZER;CN=BARG-vk3ncc:MAILTO:colin_c_consiglio@yahoo.com.au
DTSTART:20240824T110000
DTEND:20240824T120000
CATEGORIES:GeneralMeeting
URL;VALUE=URI:https://barg.myitchaplabs.com.au/mc-events/agm-general-meeting/?mc_id=211
DESCRIPTION:BARG AGM followed by General Meeting
END:VEVENT
END:VCALENDAR