BEGIN:VCALENDAR
VERSION:2.0
METHOD:PUBLISH
PRODID:-//Accessible Web Design//My Calendar//http://www.joedolson.com//v//EN';
BEGIN:VEVENT
UID:204-24
LOCATION:
SUMMARY:Dining Nights/Lunch
DTSTAMP:20240720T180000
ORGANIZER;CN=BARG-vk3ncc:MAILTO:colin_c_consiglio@yahoo.com.au
DTSTART:20240720T180000
DTEND:20240720T210000
CATEGORIES:Dining
URL;VALUE=URI:https://barg.myitchaplabs.com.au/mc-events/dining-nights-lunch-5/?mc_id=204
DESCRIPTION:Evening, 3rd Friday of the Month during Daylight Saving time, or Saturday/Sunday during the winter months. Details via Members Email
END:VEVENT
END:VCALENDAR