BEGIN:VCALENDAR
VERSION:2.0
METHOD:PUBLISH
PRODID:-//Accessible Web Design//My Calendar//http://www.joedolson.com//v//EN';
BEGIN:VEVENT
UID:139-14
LOCATION:
SUMMARY:*Coffee*
DTSTAMP:20240201T100000
ORGANIZER;CN=BARG-vk3ncc:MAILTO:colin_c_consiglio@yahoo.com.au
DTSTART:20240201T100000
DTEND:20240201T110000
CATEGORIES:General
URL;VALUE=URI:https://barg.myitchaplabs.com.au/mc-events/coffee/?mc_id=139
DESCRIPTION:Dates/Times/Venue may change because....that's life so Watch Email List or FB  for updates
END:VEVENT
END:VCALENDAR