BEGIN:VCALENDAR
VERSION:2.0
METHOD:PUBLISH
PRODID:-//Accessible Web Design//My Calendar//http://www.joedolson.com//v//EN';
BEGIN:VEVENT
UID:135-13
LOCATION:
SUMMARY:Ladies Morning Coffee
DTSTAMP:20241001T100000
ORGANIZER;CN=BARG-vk3ncc:MAILTO:colin_c_consiglio@yahoo.com.au
DTSTART:20241001T100000
DTEND:20241001T120000
CATEGORIES:Ladies
URL;VALUE=URI:https://barg.myitchaplabs.com.au/mc-events/ladies-morning-coffee/?mc_id=135
DESCRIPTION:Details will be publicised via the Members Email lists. &nbsp;
END:VEVENT
END:VCALENDAR