BEGIN:VCALENDAR
VERSION:2.0
METHOD:PUBLISH
PRODID:-//Accessible Web Design//My Calendar//http://www.joedolson.com//v//EN';
BEGIN:VEVENT
UID:126-12
LOCATION:
SUMMARY:BARG Committee WebEx
DTSTAMP:20241118T190000
ORGANIZER;CN=BARG-vk3ncc:MAILTO:colin_c_consiglio@yahoo.com.au
DTSTART:20241118T190000
DTEND:20241118T200000
CATEGORIES:Committee
URL;VALUE=URI:https://barg.myitchaplabs.com.au/mc-events/barg-committee-webex-2/?mc_id=126
DESCRIPTION:
END:VEVENT
END:VCALENDAR