BEGIN:VCALENDAR
VERSION:2.0
METHOD:PUBLISH
PRODID:-//Accessible Web Design//My Calendar//http://www.joedolson.com//v//EN';
BEGIN:VEVENT
UID:115-6
LOCATION:
SUMMARY:Committee Meeting WebEx
DTSTAMP:20240219T190000
ORGANIZER;CN=BARG-vk3ncc:MAILTO:colin_c_consiglio@yahoo.com.au
DTSTART:20240219T190000
DTEND:20240219T210000
CATEGORIES:Committee
URL;VALUE=URI:https://barg.myitchaplabs.com.au/mc-events/postponed-committee-meeting-webex/?mc_id=115
DESCRIPTION:
END:VEVENT
END:VCALENDAR